BEGIN:VCALENDAR
VERSION:2.0
CALSCALE:GREGORIAN
PRODID:UnionActive
BEGIN:VEVENT
UID:9972719@teamsterslocal776.org
SUMMARY:Eastern Region Joint Area Committee Meeting
DESCRIPTION:Contact:  \nLink for more information: http://teamsterslocal776.org/index.cfm?zone=/unionactive/view_calendar.cfm&calendarID=9972719&thisdate=10/22/2018&useCalSection=main
LOCATION:
URL:http://teamsterslocal776.org/index.cfm?zone=/unionactive/view_calendar.cfm&calendarID=9972719&thisdate=10/22/2018&useCalSection=main
DTSTART:20181022T120000Z
DTEND:20181024T130000Z
DTSTAMP:20240304T134354
TRIGGER:-PT60M
END:VEVENT
END:VCALENDAR
