BEGIN:VCALENDAR
VERSION:2.0
CALSCALE:GREGORIAN
PRODID:UnionActive
BEGIN:VEVENT
UID:9972718@teamsterslocal776.org
SUMMARY:Eastern Region Joint Area Committee Meeting
DESCRIPTION:Contact:  \nLink for more information: http://teamsterslocal776.org/index.cfm?zone=/unionactive/view_calendar.cfm&calendarID=9972718&thisdate=07/23/2018&useCalSection=main
LOCATION:
URL:http://teamsterslocal776.org/index.cfm?zone=/unionactive/view_calendar.cfm&calendarID=9972718&thisdate=07/23/2018&useCalSection=main
DTSTART:20180723T120000Z
DTEND:20180725T130000Z
DTSTAMP:20240304T134409
TRIGGER:-PT60M
END:VEVENT
END:VCALENDAR
