BEGIN:VCALENDAR
VERSION:2.0
CALSCALE:GREGORIAN
PRODID:UnionActive
BEGIN:VEVENT
UID:9383989@teamsterslocal776.org
SUMMARY:D.R.I.V.E. Dinner/Dance
DESCRIPTION:Contact:  \nLink for more information: http://teamsterslocal776.org/index.cfm?zone=/unionactive/view_calendar.cfm&calendarID=9383989&thisdate=04/01/2017&useCalSection=main
LOCATION:
URL:http://teamsterslocal776.org/index.cfm?zone=/unionactive/view_calendar.cfm&calendarID=9383989&thisdate=04/01/2017&useCalSection=main
DTSTART:20170401T120000Z
DTEND:20170401T130000Z
DTSTAMP:20240304T134520
TRIGGER:-PT60M
END:VEVENT
END:VCALENDAR
