BEGIN:VCALENDAR
VERSION:2.0
CALSCALE:GREGORIAN
PRODID:UnionActive
BEGIN:VEVENT
UID:9383988@teamsterslocal776.org
SUMMARY:Monthly Membership Meeting
DESCRIPTION:Contact:  \nLink for more information: http://teamsterslocal776.org/index.cfm?zone=/unionactive/view_calendar.cfm&calendarID=9383988&thisdate=12/10/2017&useCalSection=main
LOCATION:Harrisburg Union Hall
URL:http://teamsterslocal776.org/index.cfm?zone=/unionactive/view_calendar.cfm&calendarID=9383988&thisdate=12/10/2017&useCalSection=main
DTSTART:20171210T150000Z
DTEND:20171210T160000Z
DTSTAMP:20240304T134505
TRIGGER:-PT60M
END:VEVENT
END:VCALENDAR
