BEGIN:VCALENDAR
VERSION:2.0
CALSCALE:GREGORIAN
PRODID:UnionActive
BEGIN:VEVENT
UID:9383984@teamsterslocal776.org
SUMMARY:Monthly Membership Meeting
DESCRIPTION:Contact:  \nLink for more information: http://teamsterslocal776.org/index.cfm?zone=/unionactive/view_calendar.cfm&calendarID=9383984&thisdate=09/10/2017&useCalSection=main
LOCATION:Harrisburg Union Hall
URL:http://teamsterslocal776.org/index.cfm?zone=/unionactive/view_calendar.cfm&calendarID=9383984&thisdate=09/10/2017&useCalSection=main
DTSTART:20170910T140000Z
DTEND:20170910T150000Z
DTSTAMP:20240304T134501
TRIGGER:-PT60M
END:VEVENT
END:VCALENDAR
