BEGIN:VCALENDAR
VERSION:2.0
CALSCALE:GREGORIAN
PRODID:UnionActive
BEGIN:VEVENT
UID:9383983@teamsterslocal776.org
SUMMARY:Stewards Meeting
DESCRIPTION:Contact:  \nLink for more information: http://teamsterslocal776.org/index.cfm?zone=/unionactive/view_calendar.cfm&calendarID=9383983&thisdate=09/09/2017&useCalSection=main
LOCATION:Harrisburg Union Hall
URL:http://teamsterslocal776.org/index.cfm?zone=/unionactive/view_calendar.cfm&calendarID=9383983&thisdate=09/09/2017&useCalSection=main
DTSTART:20170909T140000Z
DTEND:20170909T150000Z
DTSTAMP:20240304T134502
TRIGGER:-PT60M
END:VEVENT
END:VCALENDAR
