BEGIN:VCALENDAR
VERSION:2.0
CALSCALE:GREGORIAN
PRODID:UnionActive
BEGIN:VEVENT
UID:9383980@teamsterslocal776.org
SUMMARY:Monthly Membership Meeting
DESCRIPTION:Contact:  \nLink for more information: http://teamsterslocal776.org/index.cfm?zone=/unionactive/view_calendar.cfm&calendarID=9383980&thisdate=04/09/2017&useCalSection=main
LOCATION:York Union Hall
URL:http://teamsterslocal776.org/index.cfm?zone=/unionactive/view_calendar.cfm&calendarID=9383980&thisdate=04/09/2017&useCalSection=main
DTSTART:20170409T140000Z
DTEND:20170409T150000Z
DTSTAMP:20240304T134501
TRIGGER:-PT60M
END:VEVENT
END:VCALENDAR
