BEGIN:VCALENDAR
VERSION:2.0
CALSCALE:GREGORIAN
PRODID:UnionActive
BEGIN:VEVENT
UID:9377148@teamsterslocal776.org
SUMMARY:UPS CPAPGC Hearings
DESCRIPTION:Contact:  \nLink for more information: http://teamsterslocal776.org/index.cfm?zone=/unionactive/view_calendar.cfm&calendarID=9377148&thisdate=03/02/2017&useCalSection=main
LOCATION:
URL:http://teamsterslocal776.org/index.cfm?zone=/unionactive/view_calendar.cfm&calendarID=9377148&thisdate=03/02/2017&useCalSection=main
DTSTART:20170302T130000Z
DTEND:20170302T140000Z
DTSTAMP:20240304T134504
TRIGGER:-PT60M
END:VEVENT
END:VCALENDAR
