BEGIN:VCALENDAR
VERSION:2.0
CALSCALE:GREGORIAN
PRODID:UnionActive
BEGIN:VEVENT
UID:9377147@teamsterslocal776.org
SUMMARY:UPS CPAPGC Hearings
DESCRIPTION:Contact:  \nLink for more information: http://teamsterslocal776.org/index.cfm?zone=/unionactive/view_calendar.cfm&calendarID=9377147&thisdate=02/02/2017&useCalSection=main
LOCATION:
URL:http://teamsterslocal776.org/index.cfm?zone=/unionactive/view_calendar.cfm&calendarID=9377147&thisdate=02/02/2017&useCalSection=main
DTSTART:20170202T130000Z
DTEND:20170202T140000Z
DTSTAMP:20240304T134502
TRIGGER:-PT60M
END:VEVENT
END:VCALENDAR
