BEGIN:VCALENDAR
VERSION:2.0
CALSCALE:GREGORIAN
PRODID:UnionActive
BEGIN:VEVENT
UID:9338923@teamsterslocal776.org
SUMMARY:Eastern Region Joint Area Committee Meeting
DESCRIPTION:Contact:  \nLink for more information: http://teamsterslocal776.org/index.cfm?zone=/unionactive/view_calendar.cfm&calendarID=9338923&thisdate=01/23/2017&useCalSection=main
LOCATION:
URL:http://teamsterslocal776.org/index.cfm?zone=/unionactive/view_calendar.cfm&calendarID=9338923&thisdate=01/23/2017&useCalSection=main
DTSTART:20170123T130000Z
DTEND:20170125T140000Z
DTSTAMP:20240304T134519
TRIGGER:-PT60M
END:VEVENT
END:VCALENDAR
