BEGIN:VCALENDAR
VERSION:2.0
CALSCALE:GREGORIAN
PRODID:UnionActive
BEGIN:VEVENT
UID:9327974@teamsterslocal776.org
SUMMARY:UPS/UPSF National Grievance Committee Meeting
DESCRIPTION:Contact:  \nLink for more information: http://teamsterslocal776.org/index.cfm?zone=/unionactive/view_calendar.cfm&calendarID=9327974&thisdate=10/01/2017&useCalSection=main
LOCATION:
URL:http://teamsterslocal776.org/index.cfm?zone=/unionactive/view_calendar.cfm&calendarID=9327974&thisdate=10/01/2017&useCalSection=main
DTSTART:20171001T120000Z
DTEND:20171006T130000Z
DTSTAMP:20240304T134519
TRIGGER:-PT60M
END:VEVENT
END:VCALENDAR
