BEGIN:VCALENDAR
VERSION:2.0
CALSCALE:GREGORIAN
PRODID:UnionActive
BEGIN:VEVENT
UID:8764340@teamsterslocal776.org
SUMMARY:Stewards Meeting
DESCRIPTION:Contact:  \nLink for more information: http://teamsterslocal776.org/index.cfm?zone=/unionactive/view_calendar.cfm&calendarID=8764340&thisdate=05/07/2016&useCalSection=main
LOCATION:York Union Hall
URL:http://teamsterslocal776.org/index.cfm?zone=/unionactive/view_calendar.cfm&calendarID=8764340&thisdate=05/07/2016&useCalSection=main
DTSTART:20160507T140000Z
DTEND:20160507T150000Z
DTSTAMP:20240304T134611
TRIGGER:-PT60M
END:VEVENT
END:VCALENDAR
