BEGIN:VCALENDAR
VERSION:2.0
CALSCALE:GREGORIAN
PRODID:UnionActive
BEGIN:VEVENT
UID:8764339@teamsterslocal776.org
SUMMARY:Monthly Membership Meeting
DESCRIPTION:Contact:  \nLink for more information: http://teamsterslocal776.org/index.cfm?zone=/unionactive/view_calendar.cfm&calendarID=8764339&thisdate=04/10/2016&useCalSection=main
LOCATION:Harrisburg Union Hall
URL:http://teamsterslocal776.org/index.cfm?zone=/unionactive/view_calendar.cfm&calendarID=8764339&thisdate=04/10/2016&useCalSection=main
DTSTART:20160410T120000Z
DTEND:20160410T130000Z
DTSTAMP:20240304T134611
TRIGGER:-PT60M
END:VEVENT
END:VCALENDAR
