BEGIN:VCALENDAR
VERSION:2.0
CALSCALE:GREGORIAN
PRODID:UnionActive
BEGIN:VEVENT
UID:8764336@teamsterslocal776.org
SUMMARY:UPS Freight Eastern Region Grievance Panel Meeting
DESCRIPTION:Contact:  \nLink for more information: http://teamsterslocal776.org/index.cfm?zone=/unionactive/view_calendar.cfm&calendarID=8764336&thisdate=12/13/2016&useCalSection=main
LOCATION:
URL:http://teamsterslocal776.org/index.cfm?zone=/unionactive/view_calendar.cfm&calendarID=8764336&thisdate=12/13/2016&useCalSection=main
DTSTART:20161213T130000Z
DTEND:20161216T140000Z
DTSTAMP:20240304T134615
TRIGGER:-PT60M
END:VEVENT
END:VCALENDAR
