BEGIN:VCALENDAR
VERSION:2.0
CALSCALE:GREGORIAN
PRODID:UnionActive
BEGIN:VEVENT
UID:8658553@teamsterslocal776.org
SUMMARY:UPS CPAPGC committee meeting
DESCRIPTION:Contact:  \nLink for more information: http://teamsterslocal776.org/index.cfm?zone=/unionactive/view_calendar.cfm&calendarID=8658553&thisdate=04/07/2016&useCalSection=main
LOCATION:
URL:http://teamsterslocal776.org/index.cfm?zone=/unionactive/view_calendar.cfm&calendarID=8658553&thisdate=04/07/2016&useCalSection=main
DTSTART:20160407T120000Z
DTEND:20160407T130000Z
DTSTAMP:20240304T134613
TRIGGER:-PT60M
END:VEVENT
END:VCALENDAR
