BEGIN:VCALENDAR
VERSION:2.0
CALSCALE:GREGORIAN
PRODID:UnionActive
BEGIN:VEVENT
UID:8649819@teamsterslocal776.org
SUMMARY:Monthly Membership Meeting
DESCRIPTION:Contact:  \nLink for more information: http://teamsterslocal776.org/index.cfm?zone=/unionactive/view_calendar.cfm&calendarID=8649819&thisdate=01/10/2016&useCalSection=main
LOCATION:Harrisburg Union Hall
URL:http://teamsterslocal776.org/index.cfm?zone=/unionactive/view_calendar.cfm&calendarID=8649819&thisdate=01/10/2016&useCalSection=main
DTSTART:20160110T150000Z
DTEND:20160110T160000Z
DTSTAMP:20240304T134614
TRIGGER:-PT60M
END:VEVENT
END:VCALENDAR
