BEGIN:VCALENDAR
VERSION:2.0
CALSCALE:GREGORIAN
PRODID:UnionActive
BEGIN:VEVENT
UID:8649816@teamsterslocal776.org
SUMMARY:Eastern Region Joint Area Committee Meeting
DESCRIPTION:Contact:  \nLink for more information: http://teamsterslocal776.org/index.cfm?zone=/unionactive/view_calendar.cfm&calendarID=8649816&thisdate=07/25/2016&useCalSection=main
LOCATION:
URL:http://teamsterslocal776.org/index.cfm?zone=/unionactive/view_calendar.cfm&calendarID=8649816&thisdate=07/25/2016&useCalSection=main
DTSTART:20160725T120000Z
DTEND:20160727T130000Z
DTSTAMP:20240304T134613
TRIGGER:-PT60M
END:VEVENT
END:VCALENDAR
