BEGIN:VCALENDAR
VERSION:2.0
CALSCALE:GREGORIAN
PRODID:UnionActive
BEGIN:VEVENT
UID:8501748@teamsterslocal776.org
SUMMARY:Christmas For Kids
DESCRIPTION:Contact:  \nLink for more information: http://teamsterslocal776.org/index.cfm?zone=/unionactive/view_calendar.cfm&calendarID=8501748&thisdate=12/05/2015&useCalSection=main
LOCATION:Reliance Fire Hall York PA
URL:http://teamsterslocal776.org/index.cfm?zone=/unionactive/view_calendar.cfm&calendarID=8501748&thisdate=12/05/2015&useCalSection=main
DTSTART:20151205T130000Z
DTEND:20151205T140000Z
DTSTAMP:20240304T134713
TRIGGER:-PT60M
END:VEVENT
END:VCALENDAR
