BEGIN:VCALENDAR
VERSION:2.0
CALSCALE:GREGORIAN
PRODID:UnionActive
BEGIN:VEVENT
UID:8496255@teamsterslocal776.org
SUMMARY:Central PA Joint Area Freight Committee Meeting
DESCRIPTION:Contact:  \nLink for more information: http://teamsterslocal776.org/index.cfm?zone=/unionactive/view_calendar.cfm&calendarID=8496255&thisdate=01/07/2016&useCalSection=main
LOCATION:
URL:http://teamsterslocal776.org/index.cfm?zone=/unionactive/view_calendar.cfm&calendarID=8496255&thisdate=01/07/2016&useCalSection=main
DTSTART:20160107T130000Z
DTEND:20160107T140000Z
DTSTAMP:20240304T134629
TRIGGER:-PT60M
END:VEVENT
END:VCALENDAR
