BEGIN:VCALENDAR
VERSION:2.0
CALSCALE:GREGORIAN
PRODID:UnionActive
BEGIN:VEVENT
UID:8489286@teamsterslocal776.org
SUMMARY:Central PA Joint Area Freight Committee Meeting
DESCRIPTION:Contact:  \nLink for more information: http://teamsterslocal776.org/index.cfm?zone=/unionactive/view_calendar.cfm&calendarID=8489286&thisdate=05/04/2016&useCalSection=main
LOCATION:
URL:http://teamsterslocal776.org/index.cfm?zone=/unionactive/view_calendar.cfm&calendarID=8489286&thisdate=05/04/2016&useCalSection=main
DTSTART:20160504T120000Z
DTEND:20160504T130000Z
DTSTAMP:20240304T134628
TRIGGER:-PT60M
END:VEVENT
END:VCALENDAR
