BEGIN:VCALENDAR
VERSION:2.0
CALSCALE:GREGORIAN
PRODID:UnionActive
BEGIN:VEVENT
UID:8485119@teamsterslocal776.org
SUMMARY:Local 776 D.R.I.V.E. Dinner-Dance
DESCRIPTION:Contact:  \nLink for more information: http://teamsterslocal776.org/index.cfm?zone=/unionactive/view_calendar.cfm&calendarID=8485119&thisdate=04/02/2016&useCalSection=main
LOCATION:Radisson Penn Harris Hotel 
URL:http://teamsterslocal776.org/index.cfm?zone=/unionactive/view_calendar.cfm&calendarID=8485119&thisdate=04/02/2016&useCalSection=main
DTSTART:20160402T120000Z
DTEND:20160402T130000Z
DTSTAMP:20240304T134611
TRIGGER:-PT60M
END:VEVENT
END:VCALENDAR
