BEGIN:VCALENDAR
VERSION:2.0
CALSCALE:GREGORIAN
PRODID:UnionActive
BEGIN:VEVENT
UID:8485118@teamsterslocal776.org
SUMMARY:Local 776 D.R.I.V.E. Dinner-Dance
DESCRIPTION:Contact:  \nLink for more information: http://teamsterslocal776.org/index.cfm?zone=/unionactive/view_calendar.cfm&calendarID=8485118&thisdate=04/02/2015&useCalSection=main
LOCATION:
URL:http://teamsterslocal776.org/index.cfm?zone=/unionactive/view_calendar.cfm&calendarID=8485118&thisdate=04/02/2015&useCalSection=main
DTSTART:20150402T120000Z
DTEND:20150402T130000Z
DTSTAMP:20240304T134809
TRIGGER:-PT60M
END:VEVENT
END:VCALENDAR
