BEGIN:VCALENDAR
VERSION:2.0
CALSCALE:GREGORIAN
PRODID:UnionActive
BEGIN:VEVENT
UID:7790170@teamsterslocal776.org
SUMMARY:UPS, UPSF National Grievance Committe Meeting
DESCRIPTION:Contact:  \nLink for more information: http://teamsterslocal776.org/index.cfm?zone=/unionactive/view_calendar.cfm&calendarID=7790170&thisdate=03/04/2015&useCalSection=main
LOCATION:
URL:http://teamsterslocal776.org/index.cfm?zone=/unionactive/view_calendar.cfm&calendarID=7790170&thisdate=03/04/2015&useCalSection=main
DTSTART:20150304T130000Z
DTEND:20150305T140000Z
DTSTAMP:20240304T134815
TRIGGER:-PT60M
END:VEVENT
END:VCALENDAR
