BEGIN:VCALENDAR
VERSION:2.0
CALSCALE:GREGORIAN
PRODID:UnionActive
BEGIN:VEVENT
UID:7790167@teamsterslocal776.org
SUMMARY:Local 776 Annual Golf Outing
DESCRIPTION:Contact:  \nLink for more information: http://teamsterslocal776.org/index.cfm?zone=/unionactive/view_calendar.cfm&calendarID=7790167&thisdate=08/02/2015&useCalSection=main
LOCATION:Eagles Crossing Golf Course
URL:http://teamsterslocal776.org/index.cfm?zone=/unionactive/view_calendar.cfm&calendarID=7790167&thisdate=08/02/2015&useCalSection=main
DTSTART:20150802T120000Z
DTEND:20150802T130000Z
DTSTAMP:20240304T134713
TRIGGER:-PT60M
END:VEVENT
END:VCALENDAR
