BEGIN:VCALENDAR
VERSION:2.0
CALSCALE:GREGORIAN
PRODID:UnionActive
BEGIN:VEVENT
UID:7790166@teamsterslocal776.org
SUMMARY:D.R.I.V.E. Dinner-Dance
DESCRIPTION:Contact:  \nLink for more information: http://teamsterslocal776.org/index.cfm?zone=/unionactive/view_calendar.cfm&calendarID=7790166&thisdate=03/28/2015&useCalSection=main
LOCATION:Radisson Penn Harris Hotel
URL:http://teamsterslocal776.org/index.cfm?zone=/unionactive/view_calendar.cfm&calendarID=7790166&thisdate=03/28/2015&useCalSection=main
DTSTART:20150328T120000Z
DTEND:20150328T130000Z
DTSTAMP:20240304T134723
TRIGGER:-PT60M
END:VEVENT
END:VCALENDAR
