BEGIN:VCALENDAR
VERSION:2.0
CALSCALE:GREGORIAN
PRODID:UnionActive
BEGIN:VEVENT
UID:7785907@teamsterslocal776.org
SUMMARY:Monthly Membership Meeting
DESCRIPTION:Contact:  \nLink for more information: http://teamsterslocal776.org/index.cfm?zone=/unionactive/view_calendar.cfm&calendarID=7785907&thisdate=12/13/2015&useCalSection=main
LOCATION:Harrisburg Union Hall
URL:http://teamsterslocal776.org/index.cfm?zone=/unionactive/view_calendar.cfm&calendarID=7785907&thisdate=12/13/2015&useCalSection=main
DTSTART:20151213T130000Z
DTEND:20151213T140000Z
DTSTAMP:20240304T134723
TRIGGER:-PT60M
END:VEVENT
END:VCALENDAR
