BEGIN:VCALENDAR
VERSION:2.0
CALSCALE:GREGORIAN
PRODID:UnionActive
BEGIN:VEVENT
UID:7784090@teamsterslocal776.org
SUMMARY:UPS Central PA Panel Hearing
DESCRIPTION:Contact:  \nLink for more information: http://teamsterslocal776.org/index.cfm?zone=/unionactive/view_calendar.cfm&calendarID=7784090&thisdate=12/03/2015&useCalSection=main
LOCATION:Bethlehem, PA
URL:http://teamsterslocal776.org/index.cfm?zone=/unionactive/view_calendar.cfm&calendarID=7784090&thisdate=12/03/2015&useCalSection=main
DTSTART:20151203T130000Z
DTEND:20151203T140000Z
DTSTAMP:20240304T134716
TRIGGER:-PT60M
END:VEVENT
END:VCALENDAR
