BEGIN:VCALENDAR
VERSION:2.0
CALSCALE:GREGORIAN
PRODID:UnionActive
BEGIN:VEVENT
UID:7783187@teamsterslocal776.org
SUMMARY:UPS Central PA Panel Hearing
DESCRIPTION:Contact:  \nLink for more information: http://teamsterslocal776.org/index.cfm?zone=/unionactive/view_calendar.cfm&calendarID=7783187&thisdate=09/03/2015&useCalSection=main
LOCATION:Wilkes Barre, PA
URL:http://teamsterslocal776.org/index.cfm?zone=/unionactive/view_calendar.cfm&calendarID=7783187&thisdate=09/03/2015&useCalSection=main
DTSTART:20150903T120000Z
DTEND:20150903T130000Z
DTSTAMP:20240304T134724
TRIGGER:-PT60M
END:VEVENT
END:VCALENDAR
