BEGIN:VCALENDAR
VERSION:2.0
CALSCALE:GREGORIAN
PRODID:UnionActive
BEGIN:VEVENT
UID:7783184@teamsterslocal776.org
SUMMARY:UPS Central PA Panel Hearing
DESCRIPTION:Contact:  \nLink for more information: http://teamsterslocal776.org/index.cfm?zone=/unionactive/view_calendar.cfm&calendarID=7783184&thisdate=06/11/2015&useCalSection=main
LOCATION:State College, PA
URL:http://teamsterslocal776.org/index.cfm?zone=/unionactive/view_calendar.cfm&calendarID=7783184&thisdate=06/11/2015&useCalSection=main
DTSTART:20150611T120000Z
DTEND:20150611T130000Z
DTSTAMP:20240304T134714
TRIGGER:-PT60M
END:VEVENT
END:VCALENDAR
