BEGIN:VCALENDAR
VERSION:2.0
CALSCALE:GREGORIAN
PRODID:UnionActive
BEGIN:VEVENT
UID:7783183@teamsterslocal776.org
SUMMARY:UPS Central PA Panel Hearing
DESCRIPTION:Contact:  \nLink for more information: http://teamsterslocal776.org/index.cfm?zone=/unionactive/view_calendar.cfm&calendarID=7783183&thisdate=05/07/2015&useCalSection=main
LOCATION:Scranton, PA
URL:http://teamsterslocal776.org/index.cfm?zone=/unionactive/view_calendar.cfm&calendarID=7783183&thisdate=05/07/2015&useCalSection=main
DTSTART:20150507T120000Z
DTEND:20150507T130000Z
DTSTAMP:20240304T134724
TRIGGER:-PT60M
END:VEVENT
END:VCALENDAR
