BEGIN:VCALENDAR
VERSION:2.0
CALSCALE:GREGORIAN
PRODID:UnionActive
BEGIN:VEVENT
UID:7783179@teamsterslocal776.org
SUMMARY:UPS Central PA Panel Hearing
DESCRIPTION:Contact:  \nLink for more information: http://teamsterslocal776.org/index.cfm?zone=/unionactive/view_calendar.cfm&calendarID=7783179&thisdate=02/05/2015&useCalSection=main
LOCATION:Allentown, PA
URL:http://teamsterslocal776.org/index.cfm?zone=/unionactive/view_calendar.cfm&calendarID=7783179&thisdate=02/05/2015&useCalSection=main
DTSTART:20150205T130000Z
DTEND:20150205T140000Z
DTSTAMP:20240304T134714
TRIGGER:-PT60M
END:VEVENT
END:VCALENDAR
