BEGIN:VCALENDAR
VERSION:2.0
CALSCALE:GREGORIAN
PRODID:UnionActive
BEGIN:VEVENT
UID:7783177@teamsterslocal776.org
SUMMARY:Central PA Joint Area Freight Committee Meeting
DESCRIPTION:Contact:  \nLink for more information: http://teamsterslocal776.org/index.cfm?zone=/unionactive/view_calendar.cfm&calendarID=7783177&thisdate=11/04/2015&useCalSection=main
LOCATION:Location to be announced
URL:http://teamsterslocal776.org/index.cfm?zone=/unionactive/view_calendar.cfm&calendarID=7783177&thisdate=11/04/2015&useCalSection=main
DTSTART:20151104T130000Z
DTEND:20151104T140000Z
DTSTAMP:20240304T134722
TRIGGER:-PT60M
END:VEVENT
END:VCALENDAR
