BEGIN:VCALENDAR
VERSION:2.0
CALSCALE:GREGORIAN
PRODID:UnionActive
BEGIN:VEVENT
UID:7783175@teamsterslocal776.org
SUMMARY:Central PA Joint Area Freight Committee Meeting
DESCRIPTION:Contact:  \nLink for more information: http://teamsterslocal776.org/index.cfm?zone=/unionactive/view_calendar.cfm&calendarID=7783175&thisdate=07/01/2015&useCalSection=main
LOCATION:Location to be announced
URL:http://teamsterslocal776.org/index.cfm?zone=/unionactive/view_calendar.cfm&calendarID=7783175&thisdate=07/01/2015&useCalSection=main
DTSTART:20150701T120000Z
DTEND:20150701T130000Z
DTSTAMP:20240304T134714
TRIGGER:-PT60M
END:VEVENT
END:VCALENDAR
