BEGIN:VCALENDAR
VERSION:2.0
CALSCALE:GREGORIAN
PRODID:UnionActive
BEGIN:VEVENT
UID:5091982@teamsterslocal776.org
SUMMARY:UPS/UPS Freight National Grievance Committee
DESCRIPTION:Contact:  \nLink for more information: http://teamsterslocal776.org/index.cfm?zone=/unionactive/view_calendar.cfm&calendarID=5091982&thisdate=10/09/2012&useCalSection=main
LOCATION:San Diego, CA
URL:http://teamsterslocal776.org/index.cfm?zone=/unionactive/view_calendar.cfm&calendarID=5091982&thisdate=10/09/2012&useCalSection=main
DTSTART:20121009T120000Z
DTEND:20121009T130000Z
DTSTAMP:20240304T135034
TRIGGER:-PT60M
END:VEVENT
END:VCALENDAR
