BEGIN:VCALENDAR
VERSION:2.0
CALSCALE:GREGORIAN
PRODID:UnionActive
BEGIN:VEVENT
UID:5091979@teamsterslocal776.org
SUMMARY:UPS/UPS Freight National Grievance Committee
DESCRIPTION:Contact:  \nLink for more information: http://teamsterslocal776.org/index.cfm?zone=/unionactive/view_calendar.cfm&calendarID=5091979&thisdate=06/05/2012&useCalSection=main
LOCATION:Providence, RI
URL:http://teamsterslocal776.org/index.cfm?zone=/unionactive/view_calendar.cfm&calendarID=5091979&thisdate=06/05/2012&useCalSection=main
DTSTART:20120605T120000Z
DTEND:20120605T130000Z
DTSTAMP:20240304T135034
TRIGGER:-PT60M
END:VEVENT
END:VCALENDAR
