BEGIN:VCALENDAR
VERSION:2.0
CALSCALE:GREGORIAN
PRODID:UnionActive
BEGIN:VEVENT
UID:5091972@teamsterslocal776.org
SUMMARY:Eastern Region Joint Area Committee
DESCRIPTION:Contact:  \nLink for more information: http://teamsterslocal776.org/index.cfm?zone=/unionactive/view_calendar.cfm&calendarID=5091972&thisdate=10/22/2012&useCalSection=main
LOCATION:Myrtle Beach, SC
URL:http://teamsterslocal776.org/index.cfm?zone=/unionactive/view_calendar.cfm&calendarID=5091972&thisdate=10/22/2012&useCalSection=main
DTSTART:20121022T120000Z
DTEND:20121024T130000Z
DTSTAMP:20240304T135037
TRIGGER:-PT60M
END:VEVENT
END:VCALENDAR
