BEGIN:VCALENDAR
VERSION:2.0
CALSCALE:GREGORIAN
PRODID:UnionActive
BEGIN:VEVENT
UID:5091970@teamsterslocal776.org
SUMMARY:Eastern Region Joint Area Committee
DESCRIPTION:Contact:  \nLink for more information: http://teamsterslocal776.org/index.cfm?zone=/unionactive/view_calendar.cfm&calendarID=5091970&thisdate=07/24/2012&useCalSection=main
LOCATION:Myrtle Beach, SC
URL:http://teamsterslocal776.org/index.cfm?zone=/unionactive/view_calendar.cfm&calendarID=5091970&thisdate=07/24/2012&useCalSection=main
DTSTART:20120724T120000Z
DTEND:20120725T130000Z
DTSTAMP:20240304T135036
TRIGGER:-PT60M
END:VEVENT
END:VCALENDAR
