BEGIN:VCALENDAR
VERSION:2.0
CALSCALE:GREGORIAN
PRODID:UnionActive
BEGIN:VEVENT
UID:5091966@teamsterslocal776.org
SUMMARY:Eastern Region Joint Area Committee
DESCRIPTION:Contact:  \nLink for more information: http://teamsterslocal776.org/index.cfm?zone=/unionactive/view_calendar.cfm&calendarID=5091966&thisdate=04/16/2012&useCalSection=main
LOCATION:Myrtle Beach, SC
URL:http://teamsterslocal776.org/index.cfm?zone=/unionactive/view_calendar.cfm&calendarID=5091966&thisdate=04/16/2012&useCalSection=main
DTSTART:20120416T120000Z
DTEND:20120418T130000Z
DTSTAMP:20240304T135035
TRIGGER:-PT60M
END:VEVENT
END:VCALENDAR
