BEGIN:VCALENDAR
VERSION:2.0
CALSCALE:GREGORIAN
PRODID:UnionActive
BEGIN:VEVENT
UID:5091963@teamsterslocal776.org
SUMMARY:Eastern Region Joint Area Committee Meeting
DESCRIPTION:Contact:  \nLink for more information: http://teamsterslocal776.org/index.cfm?zone=/unionactive/view_calendar.cfm&calendarID=5091963&thisdate=01/23/2012&useCalSection=main
LOCATION:Myrtle Beach, SC
URL:http://teamsterslocal776.org/index.cfm?zone=/unionactive/view_calendar.cfm&calendarID=5091963&thisdate=01/23/2012&useCalSection=main
DTSTART:20120123T130000Z
DTEND:20120125T140000Z
DTSTAMP:20240304T135036
TRIGGER:-PT60M
END:VEVENT
END:VCALENDAR
