BEGIN:VCALENDAR
VERSION:2.0
CALSCALE:GREGORIAN
PRODID:UnionActive
BEGIN:VEVENT
UID:5076764@teamsterslocal776.org
SUMMARY:Welcome to the new staff!
DESCRIPTION:Contact:  \nLink for more information: http://teamsterslocal776.org/index.cfm?zone=/unionactive/view_calendar.cfm&calendarID=5076764&thisdate=01/01/2012&useCalSection=main
LOCATION:
URL:http://teamsterslocal776.org/index.cfm?zone=/unionactive/view_calendar.cfm&calendarID=5076764&thisdate=01/01/2012&useCalSection=main
DTSTART:20120101T130000Z
DTEND:20120101T140000Z
DTSTAMP:20240304T135033
TRIGGER:-PT60M
END:VEVENT
END:VCALENDAR
