BEGIN:VCALENDAR
VERSION:2.0
CALSCALE:GREGORIAN
PRODID:UnionActive
BEGIN:VEVENT
UID:4137918@teamsterslocal776.org
SUMMARY:Central PA Joint Area Freight Hearings
DESCRIPTION:Contact:  \nLink for more information: http://teamsterslocal776.org/index.cfm?zone=/unionactive/view_calendar.cfm&calendarID=4137918&thisdate=05/04/2011&useCalSection=main
LOCATION:
URL:http://teamsterslocal776.org/index.cfm?zone=/unionactive/view_calendar.cfm&calendarID=4137918&thisdate=05/04/2011&useCalSection=main
DTSTART:20110504T120000Z
DTEND:20110504T130000Z
DTSTAMP:20240304T135244
TRIGGER:-PT60M
END:VEVENT
END:VCALENDAR
