BEGIN:VCALENDAR
VERSION:2.0
CALSCALE:GREGORIAN
PRODID:UnionActive
BEGIN:VEVENT
UID:4108717@teamsterslocal776.org
SUMMARY:UPS Frt. Eastern Region Grievance Panel
DESCRIPTION:Contact:  \nLink for more information: http://teamsterslocal776.org/index.cfm?zone=/unionactive/view_calendar.cfm&calendarID=4108717&thisdate=11/15/2011&useCalSection=main
LOCATION:
URL:http://teamsterslocal776.org/index.cfm?zone=/unionactive/view_calendar.cfm&calendarID=4108717&thisdate=11/15/2011&useCalSection=main
DTSTART:20111115T130000Z
DTEND:20111117T140000Z
DTSTAMP:20240304T135247
TRIGGER:-PT60M
END:VEVENT
END:VCALENDAR
