BEGIN:VCALENDAR
VERSION:2.0
CALSCALE:GREGORIAN
PRODID:UnionActive
BEGIN:VEVENT
UID:4108716@teamsterslocal776.org
SUMMARY:UPS Frt. Eastern Region Grievance Panel
DESCRIPTION:Contact:  \nLink for more information: http://teamsterslocal776.org/index.cfm?zone=/unionactive/view_calendar.cfm&calendarID=4108716&thisdate=09/06/2011&useCalSection=main
LOCATION:
URL:http://teamsterslocal776.org/index.cfm?zone=/unionactive/view_calendar.cfm&calendarID=4108716&thisdate=09/06/2011&useCalSection=main
DTSTART:20110906T120000Z
DTEND:20110908T130000Z
DTSTAMP:20240304T135246
TRIGGER:-PT60M
END:VEVENT
END:VCALENDAR
