BEGIN:VCALENDAR
VERSION:2.0
CALSCALE:GREGORIAN
PRODID:UnionActive
BEGIN:VEVENT
UID:4108713@teamsterslocal776.org
SUMMARY:UPS Frt. Eastern Region Grievance Panel
DESCRIPTION:Contact:  \nLink for more information: http://teamsterslocal776.org/index.cfm?zone=/unionactive/view_calendar.cfm&calendarID=4108713&thisdate=03/15/2011&useCalSection=main
LOCATION:
URL:http://teamsterslocal776.org/index.cfm?zone=/unionactive/view_calendar.cfm&calendarID=4108713&thisdate=03/15/2011&useCalSection=main
DTSTART:20110315T120000Z
DTEND:20110317T130000Z
DTSTAMP:20240304T135301
TRIGGER:-PT60M
END:VEVENT
END:VCALENDAR
