BEGIN:VCALENDAR
VERSION:2.0
CALSCALE:GREGORIAN
PRODID:UnionActive
BEGIN:VEVENT
UID:4108710@teamsterslocal776.org
SUMMARY:UPS, UPS Frt. National Grievance Committee
DESCRIPTION:Contact:  \nLink for more information: http://teamsterslocal776.org/index.cfm?zone=/unionactive/view_calendar.cfm&calendarID=4108710&thisdate=06/06/2011&useCalSection=main
LOCATION:
URL:http://teamsterslocal776.org/index.cfm?zone=/unionactive/view_calendar.cfm&calendarID=4108710&thisdate=06/06/2011&useCalSection=main
DTSTART:20110606T120000Z
DTEND:20110610T130000Z
DTSTAMP:20240304T135244
TRIGGER:-PT60M
END:VEVENT
END:VCALENDAR
