BEGIN:VCALENDAR
VERSION:2.0
CALSCALE:GREGORIAN
PRODID:UnionActive
BEGIN:VEVENT
UID:4107931@teamsterslocal776.org
SUMMARY:Local 776 Member Picnic
DESCRIPTION:Contact:  \nLink for more information: http://teamsterslocal776.org/index.cfm?zone=/unionactive/view_calendar.cfm&calendarID=4107931&thisdate=06/05/2011&useCalSection=main
LOCATION:Mechanicsburg Picnic Grounds
URL:http://teamsterslocal776.org/index.cfm?zone=/unionactive/view_calendar.cfm&calendarID=4107931&thisdate=06/05/2011&useCalSection=main
DTSTART:20110605T120000Z
DTEND:20110605T130000Z
DTSTAMP:20240304T135247
TRIGGER:-PT60M
END:VEVENT
END:VCALENDAR
