BEGIN:VCALENDAR
VERSION:2.0
CALSCALE:GREGORIAN
PRODID:UnionActive
BEGIN:VEVENT
UID:4064109@teamsterslocal776.org
SUMMARY:UPS Central PA grievance hearings
DESCRIPTION:Contact:  \nLink for more information: http://teamsterslocal776.org/index.cfm?zone=/unionactive/view_calendar.cfm&calendarID=4064109&thisdate=02/03/2011&useCalSection=main
LOCATION:To be determined
URL:http://teamsterslocal776.org/index.cfm?zone=/unionactive/view_calendar.cfm&calendarID=4064109&thisdate=02/03/2011&useCalSection=main
DTSTART:20110203T140000Z
DTEND:20110203T150000Z
DTSTAMP:20240304T135245
TRIGGER:-PT60M
END:VEVENT
END:VCALENDAR
