BEGIN:VCALENDAR
VERSION:2.0
CALSCALE:GREGORIAN
PRODID:UnionActive
BEGIN:VEVENT
UID:4064108@teamsterslocal776.org
SUMMARY:UPS Central PA grievance hearings
DESCRIPTION:Contact:  \nLink for more information: http://teamsterslocal776.org/index.cfm?zone=/unionactive/view_calendar.cfm&calendarID=4064108&thisdate=01/06/2011&useCalSection=main
LOCATION:Holiday Inn Grantville, PA
URL:http://teamsterslocal776.org/index.cfm?zone=/unionactive/view_calendar.cfm&calendarID=4064108&thisdate=01/06/2011&useCalSection=main
DTSTART:20110106T140000Z
DTEND:20110106T150000Z
DTSTAMP:20240304T135246
TRIGGER:-PT60M
END:VEVENT
END:VCALENDAR
