BEGIN:VCALENDAR
VERSION:2.0
CALSCALE:GREGORIAN
PRODID:UnionActive
BEGIN:VEVENT
UID:3514813@teamsterslocal776.org
SUMMARY:PA Conference of Teamsters Annual Conference
DESCRIPTION:Contact:  \nLink for more information: http://teamsterslocal776.org/index.cfm?zone=/unionactive/view_calendar.cfm&calendarID=3514813&thisdate=04/01/2010&useCalSection=main
LOCATION:Hershey
URL:http://teamsterslocal776.org/index.cfm?zone=/unionactive/view_calendar.cfm&calendarID=3514813&thisdate=04/01/2010&useCalSection=main
DTSTART:20100401T120000Z
DTEND:20100401T130000Z
DTSTAMP:20240304T135406
TRIGGER:-PT60M
END:VEVENT
END:VCALENDAR
