BEGIN:VCALENDAR
VERSION:2.0
CALSCALE:GREGORIAN
PRODID:UnionActive
BEGIN:VEVENT
UID:3316629@teamsterslocal776.org
SUMMARY:Eastern Region Freight Hearings
DESCRIPTION:Contact:  \nLink for more information: http://teamsterslocal776.org/index.cfm?zone=/unionactive/view_calendar.cfm&calendarID=3316629&thisdate=07/19/2010&useCalSection=main
LOCATION:To be determined
URL:http://teamsterslocal776.org/index.cfm?zone=/unionactive/view_calendar.cfm&calendarID=3316629&thisdate=07/19/2010&useCalSection=main
DTSTART:20100719T120000Z
DTEND:20100722T130000Z
DTSTAMP:20240304T135405
TRIGGER:-PT60M
END:VEVENT
END:VCALENDAR
